BEGIN:VCALENDAR
VERSION:2.0
PRODID:-//Ансамбль танца &quot;Иртыш&quot; - ECPv6.15.16//NONSGML v1.0//EN
CALSCALE:GREGORIAN
METHOD:PUBLISH
X-WR-CALNAME:Ансамбль танца &quot;Иртыш&quot;
X-ORIGINAL-URL:https://xn-----6kcabae4dwaijg6bdug7dzb6cj.xn--p1ai
X-WR-CALDESC:Мероприятия для Ансамбль танца &quot;Иртыш&quot;
REFRESH-INTERVAL;VALUE=DURATION:PT1H
X-Robots-Tag:noindex
X-PUBLISHED-TTL:PT1H
BEGIN:VTIMEZONE
TZID:Europe/Moscow
BEGIN:STANDARD
TZOFFSETFROM:+0300
TZOFFSETTO:+0300
TZNAME:MSK
DTSTART:20160101T000000
END:STANDARD
END:VTIMEZONE
BEGIN:VEVENT
DTSTART;TZID=Europe/Moscow:20190616T130000
DTEND;TZID=Europe/Moscow:20190616T190000
DTSTAMP:20260421T161123
CREATED:20190612T113321Z
LAST-MODIFIED:20190612T113809Z
UID:1036-1560690000-1560711600@xn-----6kcabae4dwaijg6bdug7dzb6cj.xn--p1ai
SUMMARY:Березкина именины в Омской крепости
DESCRIPTION:Артисты муниципального ансамбля танца «Иртыш» примут участие в открытии фестиваля Троицких гуляний в Омской крепости
URL:https://xn-----6kcabae4dwaijg6bdug7dzb6cj.xn--p1ai/event/1036/
CATEGORIES:Афиша
ATTACH;FMTTYPE=image/jpeg:https://xn-----6kcabae4dwaijg6bdug7dzb6cj.xn--p1ai/wp-content/uploads/2019/06/RUL4yTmE5BE.jpg
END:VEVENT
BEGIN:VEVENT
DTSTART;TZID=Europe/Moscow:20190417T180000
DTEND;TZID=Europe/Moscow:20190417T190000
DTSTAMP:20260421T161123
CREATED:20190318T075646Z
LAST-MODIFIED:20190318T080353Z
UID:796-1555524000-1555527600@xn-----6kcabae4dwaijg6bdug7dzb6cj.xn--p1ai
SUMMARY:Приглашаем на "Иртышский сказ"
DESCRIPTION:Муниципальный коллектив\, лауреат международных и всероссийских конкурсов ансамбль танца «Иртыш» 17 апреля в 18:00 выступит на сцене Культурно-досугового центра «Импульс» в микрорайоне «Загородный» с концертной программой «Иртышский сказ»\, в рамках творческого проекта департамента культуры Администрации города Омска «От окраин к центру».  \n\n\n\nВ программу вошли номера\, основанные на русском и сибирском фольклорном материале\, которые сегодня являются «Золотым фондом» коллектива: «Большой сибирский пляс»\, «Ликуй Сибирь»\, а так же хореографические и вокально-хореографические композиции\, которые зрители увидели впервые в творческих сезонах 2017-2018 и 2018-2019 годов: «Со двора\, со дворика»\, «Прииртышская кадриль»\, вокально-инструментальные композиции «Сибирский ленок»\, «Край березовый»\, прославляющие родной край\, его историю\, людей\, природу\, традиции.
URL:https://xn-----6kcabae4dwaijg6bdug7dzb6cj.xn--p1ai/event/%d0%bf%d1%80%d0%b8%d0%b3%d0%bb%d0%b0%d1%88%d0%b0%d0%b5%d0%bc-%d0%bd%d0%b0-%d0%b8%d1%80%d1%82%d1%8b%d1%88%d1%81%d0%ba%d0%b8%d0%b9-%d1%81%d0%ba%d0%b0%d0%b7/
CATEGORIES:Афиша
ATTACH;FMTTYPE=image/jpeg:https://xn-----6kcabae4dwaijg6bdug7dzb6cj.xn--p1ai/wp-content/uploads/2019/02/пк.jpg
END:VEVENT
BEGIN:VEVENT
DTSTART;TZID=Europe/Moscow:20190322T170000
DTEND;TZID=Europe/Moscow:20190322T170000
DTSTAMP:20260421T161123
CREATED:20190226T111331Z
LAST-MODIFIED:20200505T111445Z
UID:1475-1553274000-1553274000@xn-----6kcabae4dwaijg6bdug7dzb6cj.xn--p1ai
SUMMARY:С творчеством в сердце!
DESCRIPTION:22 марта 2019 года в 17.00 в большом зале концертно-творческого объединения (ул. 2-я Производственная\, 37) состоится вокально-инструментальная концертная программа «С творчеством в сердце!» в исполнении оркестровой группы и солистки вокалистки муниципального ансамбля танца «Иртыш» .  \n\n\n\nВ программу мероприятия вошли не только музыкальные и вокальные композиции известных авторов\, но и номера\, автором которых является музыкальный руководитель коллектива А.И. Федоткин.
URL:https://xn-----6kcabae4dwaijg6bdug7dzb6cj.xn--p1ai/event/%d1%81-%d1%82%d0%b2%d0%be%d1%80%d1%87%d0%b5%d1%81%d1%82%d0%b2%d0%be%d0%bc-%d0%b2-%d1%81%d0%b5%d1%80%d0%b4%d1%86%d0%b5/
CATEGORIES:Афиша
ATTACH;FMTTYPE=image/jpeg:https://xn-----6kcabae4dwaijg6bdug7dzb6cj.xn--p1ai/wp-content/uploads/2020/05/7aede80d-beb8-4dbc-b950-77eed9b8200c.jpg
END:VEVENT
BEGIN:VEVENT
DTSTART;TZID=Europe/Moscow:20190321T150000
DTEND;TZID=Europe/Moscow:20190321T170000
DTSTAMP:20260421T161123
CREATED:20190318T082619Z
LAST-MODIFIED:20190318T082621Z
UID:799-1553180400-1553187600@xn-----6kcabae4dwaijg6bdug7dzb6cj.xn--p1ai
SUMMARY:Муниципальный ансамбль танца "Иртыш" станет гостем IV поликультурного фестиваля «Хоровод дружбы»
DESCRIPTION:Коллектив муниципального ансамбля танца «Иртыш» принял приглашение на IV поликультурный фестиваль «Хоровод дружбы»\, организатором которого является администрация школы-интерната № 20 ОАО РЖД. \n\n\n\nГлавная цель фестиваля «Хоровод дружбы» — научить юных омичей толерантности\, бережному отношению к культуре других народов. \n\n\n\n  На праздничном концерте фестиваля муниципальный коллектив представит хореографическую сюиту национальностей — концертный номер «Моя родина Сибирь» и композицию «Большой сибирский пляс»\, которые олицетворяют дружбу и единство народов проживающих на территории Омской области.
URL:https://xn-----6kcabae4dwaijg6bdug7dzb6cj.xn--p1ai/event/%d0%bc%d1%83%d0%bd%d0%b8%d1%86%d0%b8%d0%bf%d0%b0%d0%bb%d1%8c%d0%bd%d1%8b%d0%b9-%d0%b0%d0%bd%d1%81%d0%b0%d0%bc%d0%b1%d0%bb%d1%8c-%d1%82%d0%b0%d0%bd%d1%86%d0%b0-%d0%b8%d1%80%d1%82%d1%8b%d1%88-%d1%81/
CATEGORIES:Афиша
ATTACH;FMTTYPE=image/jpeg:https://xn-----6kcabae4dwaijg6bdug7dzb6cj.xn--p1ai/wp-content/uploads/2019/03/IMG_5390.jpg
END:VEVENT
BEGIN:VEVENT
DTSTART;TZID=Europe/Moscow:20190317T150000
DTEND;TZID=Europe/Moscow:20190317T163000
DTSTAMP:20260421T161123
CREATED:20190220T175922Z
LAST-MODIFIED:20190301T065344Z
UID:503-1552834800-1552840200@xn-----6kcabae4dwaijg6bdug7dzb6cj.xn--p1ai
SUMMARY:Иртышский сказ
DESCRIPTION:17 марта 2019 года в 15.00 на сцене бюджетного учреждения культуры города Омска «Дворец культуры студентов и молодежи «Звездный» выступят артисты муниципального ансамбля танца «Иртыш» с концертной программой «Иртышский сказ.»
URL:https://xn-----6kcabae4dwaijg6bdug7dzb6cj.xn--p1ai/event/%d0%b8%d1%80%d1%82%d1%8b%d1%88%d1%81%d0%ba%d0%b8%d0%b9-%d1%81%d0%ba%d0%b0%d0%b7/
CATEGORIES:Афиша
ATTACH;FMTTYPE=image/jpeg:https://xn-----6kcabae4dwaijg6bdug7dzb6cj.xn--p1ai/wp-content/uploads/2019/02/пк.jpg
ORGANIZER;CN="%D0%B1%D1%8E%D0%B4%D0%B6%D0%B5%D1%82%D0%BD%D0%BE%D0%B5 %D1%83%D1%87%D1%80%D0%B5%D0%B6%D0%B4%D0%B5%D0%BD%D0%B8%D0%B5 %D0%BA%D1%83%D0%BB%D1%8C%D1%82%D1%83%D1%80%D1%8B %D0%B3%D0%BE%D1%80%D0%BE%D0%B4%D0%B0 %D0%9E%D0%BC%D1%81%D0%BA%D0%B0 '%D0%94%D0%B2%D0%BE%D1%80%D0%B5%D1%86 %D0%BA%D1%83%D0%BB%D1%8C%D1%82%D1%83%D1%80%D1%8B %D1%81%D1%82%D1%83%D0%B4%D0%B5%D0%BD%D1%82%D0%BE%D0%B2 %D0%B8 %D0%BC%D0%BE%D0%BB%D0%BE%D0%B4%D0%B5%D0%B6%D0%B8 '%D0%97%D0%B2%D0%B5%D0%B7%D0%B4%D0%BD%D1%8B%D0%B9'":MAILTO:zvezdny-omsk@yandex.ru
END:VEVENT
BEGIN:VEVENT
DTSTART;TZID=Europe/Moscow:20190223T150000
DTEND;TZID=Europe/Moscow:20190223T160000
DTSTAMP:20260421T161123
CREATED:20190201T100311Z
LAST-MODIFIED:20190930T100522Z
UID:1296-1550934000-1550937600@xn-----6kcabae4dwaijg6bdug7dzb6cj.xn--p1ai
SUMMARY:К Дню защитника Отечества
DESCRIPTION:Для всех Защитников нашей страны концертная программа «Аты-баты\, шли солдаты»
URL:https://xn-----6kcabae4dwaijg6bdug7dzb6cj.xn--p1ai/event/1296/
CATEGORIES:Афиша
ATTACH;FMTTYPE=image/jpeg:https://xn-----6kcabae4dwaijg6bdug7dzb6cj.xn--p1ai/wp-content/uploads/2019/04/AGJS0647.jpg
END:VEVENT
BEGIN:VEVENT
DTSTART;TZID=Europe/Moscow:20181228T170000
DTEND;TZID=Europe/Moscow:20181228T180000
DTSTAMP:20260421T161123
CREATED:20181227T123958Z
LAST-MODIFIED:20190227T093548Z
UID:429-1546016400-1546020000@xn-----6kcabae4dwaijg6bdug7dzb6cj.xn--p1ai
SUMMARY:Новый год 2019!
DESCRIPTION:
URL:https://xn-----6kcabae4dwaijg6bdug7dzb6cj.xn--p1ai/event/429/
ATTACH;FMTTYPE=image/jpeg:https://xn-----6kcabae4dwaijg6bdug7dzb6cj.xn--p1ai/wp-content/uploads/2018/12/001_novyj_razmer_2.jpg
END:VEVENT
BEGIN:VEVENT
DTSTART;TZID=Europe/Moscow:20181116T170000
DTEND;TZID=Europe/Moscow:20181116T183000
DTSTAMP:20260421T161123
CREATED:20181111T084451Z
LAST-MODIFIED:20181111T084451Z
UID:415-1542387600-1542393000@xn-----6kcabae4dwaijg6bdug7dzb6cj.xn--p1ai
SUMMARY:Концертная программа "Иртышский сказ"
DESCRIPTION:16 ноября 2018 года17.00
URL:https://xn-----6kcabae4dwaijg6bdug7dzb6cj.xn--p1ai/event/%d0%ba%d0%be%d0%bd%d1%86%d0%b5%d1%80%d1%82%d0%bd%d0%b0%d1%8f-%d0%bf%d1%80%d0%be%d0%b3%d1%80%d0%b0%d0%bc%d0%bc%d0%b0-%d0%b8%d1%80%d1%82%d1%8b%d1%88%d1%81%d0%ba%d0%b8%d0%b9-%d1%81%d0%ba%d0%b0%d0%b7/
CATEGORIES:Афиша
END:VEVENT
BEGIN:VEVENT
DTSTART;TZID=Europe/Moscow:20180805T190000
DTEND;TZID=Europe/Moscow:20180805T200000
DTSTAMP:20260421T161123
CREATED:20180723T094910Z
LAST-MODIFIED:20190227T091831Z
UID:352-1533495600-1533499200@xn-----6kcabae4dwaijg6bdug7dzb6cj.xn--p1ai
SUMMARY:Сольная концертная программа "Мы - Омичи!"
DESCRIPTION:1 Сольная концертная программа «Мы — Омичи!»
URL:https://xn-----6kcabae4dwaijg6bdug7dzb6cj.xn--p1ai/event/%d1%81%d0%be%d0%bb%d1%8c%d0%bd%d0%b0%d1%8f-%d0%ba%d0%be%d0%bd%d1%86%d0%b5%d1%80%d1%82%d0%bd%d0%b0%d1%8f-%d0%bf%d1%80%d0%be%d0%b3%d1%80%d0%b0%d0%bc%d0%bc%d0%b0-%d0%bc%d1%8b-%d0%be%d0%bc%d0%b8%d1%87/
LOCATION:Парк культуры и отдыха 30-летия ВЛКСМ\, Омск\, Российская Федерация
CATEGORIES:Афиша
ATTACH;FMTTYPE=image/png:https://xn-----6kcabae4dwaijg6bdug7dzb6cj.xn--p1ai/wp-content/uploads/2017/07/.-ИРТЫШ-e1501061001496.png
END:VEVENT
BEGIN:VEVENT
DTSTART;TZID=Europe/Moscow:20180729T180000
DTEND;TZID=Europe/Moscow:20180729T190000
DTSTAMP:20260421T161123
CREATED:20180723T094653Z
LAST-MODIFIED:20180723T094653Z
UID:350-1532887200-1532890800@xn-----6kcabae4dwaijg6bdug7dzb6cj.xn--p1ai
SUMMARY:Сольная концертная программа "Моя Родина - Сибирь"
DESCRIPTION:
URL:https://xn-----6kcabae4dwaijg6bdug7dzb6cj.xn--p1ai/event/%d1%81%d0%be%d0%bb%d1%8c%d0%bd%d0%b0%d1%8f-%d0%ba%d0%be%d0%bd%d1%86%d0%b5%d1%80%d1%82%d0%bd%d0%b0%d1%8f-%d0%bf%d1%80%d0%be%d0%b3%d1%80%d0%b0%d0%bc%d0%bc%d0%b0-%d0%bc%d0%be%d1%8f-%d1%80%d0%be%d0%b4-2/
LOCATION:Парк культуры и отдыха 30-летия ВЛКСМ\, Омск\, Российская Федерация
CATEGORIES:Афиша
END:VEVENT
BEGIN:VEVENT
DTSTART;TZID=Europe/Moscow:20180729T100000
DTEND;TZID=Europe/Moscow:20180729T110000
DTSTAMP:20260421T161123
CREATED:20180723T094315Z
LAST-MODIFIED:20180723T095037Z
UID:347-1532858400-1532862000@xn-----6kcabae4dwaijg6bdug7dzb6cj.xn--p1ai
SUMMARY:Сольная концертная программа "Моя Родина - Сибирь"
DESCRIPTION:
URL:https://xn-----6kcabae4dwaijg6bdug7dzb6cj.xn--p1ai/event/%d1%81%d0%be%d0%bb%d1%8c%d0%bd%d0%b0%d1%8f-%d0%ba%d0%be%d0%bd%d1%86%d0%b5%d1%80%d1%82%d0%bd%d0%b0%d1%8f-%d0%bf%d1%80%d0%be%d0%b3%d1%80%d0%b0%d0%bc%d0%bc%d0%b0-%d0%bc%d0%be%d1%8f-%d1%80%d0%be%d0%b4/
LOCATION:Поселок Черемушки Танковый институт\, Омск\, Российская Федерация
CATEGORIES:Афиша
END:VEVENT
BEGIN:VEVENT
DTSTART;TZID=Europe/Moscow:20180728T180000
DTEND;TZID=Europe/Moscow:20180728T190000
DTSTAMP:20260421T161123
CREATED:20180723T093645Z
LAST-MODIFIED:20180723T095109Z
UID:345-1532800800-1532804400@xn-----6kcabae4dwaijg6bdug7dzb6cj.xn--p1ai
SUMMARY:Сольная концертная программа "Иртышский сказ"
DESCRIPTION:
URL:https://xn-----6kcabae4dwaijg6bdug7dzb6cj.xn--p1ai/event/%d1%81%d0%be%d0%bb%d1%8c%d0%bd%d0%b0%d1%8f-%d0%ba%d0%be%d0%bd%d1%86%d0%b5%d1%80%d1%82%d0%bd%d0%b0%d1%8f-%d0%bf%d1%80%d0%be%d0%b3%d1%80%d0%b0%d0%bc%d0%bc%d0%b0-%d0%b8%d1%80%d1%82%d1%8b%d1%88%d1%81/
LOCATION:Парк культуры и отдыха 30-летия ВЛКСМ\, Омск\, Российская Федерация
CATEGORIES:Афиша
END:VEVENT
BEGIN:VEVENT
DTSTART;TZID=Europe/Moscow:20180727T150000
DTEND;TZID=Europe/Moscow:20180727T163000
DTSTAMP:20260421T161123
CREATED:20180723T095231Z
LAST-MODIFIED:20180723T095231Z
UID:336-1532703600-1532709000@xn-----6kcabae4dwaijg6bdug7dzb6cj.xn--p1ai
SUMMARY:Праздничная программа "С праздником\, любимый город!"
DESCRIPTION:
URL:https://xn-----6kcabae4dwaijg6bdug7dzb6cj.xn--p1ai/event/%d0%bf%d1%80%d0%b0%d0%b7%d0%b4%d0%bd%d0%b8%d1%87%d0%bd%d0%b0%d1%8f-%d0%bf%d1%80%d0%be%d0%b3%d1%80%d0%b0%d0%bc%d0%bc%d0%b0-%d1%81-%d0%bf%d1%80%d0%b0%d0%b7%d0%b4%d0%bd%d0%b8%d0%ba%d0%be%d0%bc-%d0%bb/
LOCATION:Микрорайон «Осташково»\, ул. Осташковская\, дома 16\, 18\, 20\, Омск\, Российская Федерация
CATEGORIES:Афиша
END:VEVENT
BEGIN:VEVENT
DTSTART;TZID=Europe/Moscow:20170810T110000
DTEND;TZID=Europe/Moscow:20170810T120000
DTSTAMP:20260421T161123
CREATED:20170727T092928Z
LAST-MODIFIED:20170727T093433Z
UID:108-1502362800-1502366400@xn-----6kcabae4dwaijg6bdug7dzb6cj.xn--p1ai
SUMMARY:Сольная концертная программа  «Моя Родина — Сибирь»
DESCRIPTION:
URL:https://xn-----6kcabae4dwaijg6bdug7dzb6cj.xn--p1ai/event/%d1%81%d0%be%d0%bb%d1%8c%d0%bd%d0%b0%d1%8f-%d0%ba%d0%be%d0%bd%d1%86%d0%b5%d1%80%d1%82%d0%bd%d0%b0%d1%8f-%d0%bf%d1%80%d0%be%d0%b3%d1%80%d0%b0%d0%bc%d0%bc%d0%b0-%d0%bc%d0%be%d1%8f-%d1%80%d0%be-4/
LOCATION:Поселок Черемушки Танковый институт\, Омск\, Российская Федерация
CATEGORIES:Афиша
ATTACH;FMTTYPE=image/jpeg:https://xn-----6kcabae4dwaijg6bdug7dzb6cj.xn--p1ai/wp-content/uploads/2017/07/-e1501127687556.jpg
END:VEVENT
BEGIN:VEVENT
DTSTART;TZID=Europe/Moscow:20170806T160000
DTEND;TZID=Europe/Moscow:20170806T170000
DTSTAMP:20260421T161123
CREATED:20170727T092340Z
LAST-MODIFIED:20170727T092340Z
UID:106-1502035200-1502038800@xn-----6kcabae4dwaijg6bdug7dzb6cj.xn--p1ai
SUMMARY:Сольная концертная программа  «Моя Родина Сибирь»
DESCRIPTION:
URL:https://xn-----6kcabae4dwaijg6bdug7dzb6cj.xn--p1ai/event/%d1%81%d0%be%d0%bb%d1%8c%d0%bd%d0%b0%d1%8f-%d0%ba%d0%be%d0%bd%d1%86%d0%b5%d1%80%d1%82%d0%bd%d0%b0%d1%8f-%d0%bf%d1%80%d0%be%d0%b3%d1%80%d0%b0%d0%bc%d0%bc%d0%b0-%d0%bc%d0%be%d1%8f-%d1%80%d0%be-3/
LOCATION:Парк культуры и отдыха 30-летия ВЛКСМ\, Омск\, Российская Федерация
CATEGORIES:Афиша
ATTACH;FMTTYPE=image/jpeg:https://xn-----6kcabae4dwaijg6bdug7dzb6cj.xn--p1ai/wp-content/uploads/2017/07/-e1501127687556.jpg
END:VEVENT
BEGIN:VEVENT
DTSTART;TZID=Europe/Moscow:20170805T180000
DTEND;TZID=Europe/Moscow:20170805T190000
DTSTAMP:20260421T161123
CREATED:20170727T092048Z
LAST-MODIFIED:20170727T092048Z
UID:103-1501956000-1501959600@xn-----6kcabae4dwaijg6bdug7dzb6cj.xn--p1ai
SUMMARY:Танцевальный марафон «Танцующий город»
DESCRIPTION:
URL:https://xn-----6kcabae4dwaijg6bdug7dzb6cj.xn--p1ai/event/%d1%82%d0%b0%d0%bd%d1%86%d0%b5%d0%b2%d0%b0%d0%bb%d1%8c%d0%bd%d1%8b%d0%b9-%d0%bc%d0%b0%d1%80%d0%b0%d1%84%d0%be%d0%bd-%d1%82%d0%b0%d0%bd%d1%86%d1%83%d1%8e%d1%89%d0%b8%d0%b9-%d0%b3%d0%be%d1%80/
LOCATION:Сквер Победы\, Омск
CATEGORIES:Афиша
ATTACH;FMTTYPE=image/jpeg:https://xn-----6kcabae4dwaijg6bdug7dzb6cj.xn--p1ai/wp-content/uploads/2017/07/-e1501127687556.jpg
END:VEVENT
BEGIN:VEVENT
DTSTART;TZID=Europe/Moscow:20170805T160000
DTEND;TZID=Europe/Moscow:20170805T170000
DTSTAMP:20260421T161123
CREATED:20170727T091802Z
LAST-MODIFIED:20170727T091802Z
UID:99-1501948800-1501952400@xn-----6kcabae4dwaijg6bdug7dzb6cj.xn--p1ai
SUMMARY:Совместная концертная программа с Муниципальным ансамблем танца «Русь»
DESCRIPTION:
URL:https://xn-----6kcabae4dwaijg6bdug7dzb6cj.xn--p1ai/event/%d1%81%d0%be%d0%b2%d0%bc%d0%b5%d1%81%d1%82%d0%bd%d0%b0%d1%8f-%d0%ba%d0%be%d0%bd%d1%86%d0%b5%d1%80%d1%82%d0%bd%d0%b0%d1%8f-%d0%bf%d1%80%d0%be%d0%b3%d1%80%d0%b0%d0%bc%d0%bc%d0%b0-%d1%81-%d0%bc%d1%83/
LOCATION:Омская крепость\, Омск\, Российская Федерация
CATEGORIES:Афиша
ATTACH;FMTTYPE=image/jpeg:https://xn-----6kcabae4dwaijg6bdug7dzb6cj.xn--p1ai/wp-content/uploads/2017/07/-e1501127687556.jpg
END:VEVENT
BEGIN:VEVENT
DTSTART;TZID=Europe/Moscow:20170804T180000
DTEND;TZID=Europe/Moscow:20170804T190000
DTSTAMP:20260421T161123
CREATED:20170727T091259Z
LAST-MODIFIED:20170727T091550Z
UID:92-1501869600-1501873200@xn-----6kcabae4dwaijg6bdug7dzb6cj.xn--p1ai
SUMMARY:Торжественное собрание и праздничный концерт\, посвященный 301 годовщине города Омска
DESCRIPTION:
URL:https://xn-----6kcabae4dwaijg6bdug7dzb6cj.xn--p1ai/event/%d1%81%d0%be%d0%bb%d1%8c%d0%bd%d0%b0%d1%8f-%d0%ba%d0%be%d0%bd%d1%86%d0%b5%d1%80%d1%82%d0%bd%d0%b0%d1%8f-%d0%bf%d1%80%d0%be%d0%b3%d1%80%d0%b0%d0%bc%d0%bc%d0%b0-%d0%bc%d0%be%d1%8f-%d1%80%d0%be-2/
LOCATION:Концертный зал филармонии\, Омск\, Российская Федерация
CATEGORIES:Афиша
ATTACH;FMTTYPE=image/jpeg:https://xn-----6kcabae4dwaijg6bdug7dzb6cj.xn--p1ai/wp-content/uploads/2017/07/-e1501127687556.jpg
END:VEVENT
BEGIN:VEVENT
DTSTART;TZID=Europe/Moscow:20170729T170000
DTEND;TZID=Europe/Moscow:20170729T180000
DTSTAMP:20260421T161123
CREATED:20170727T085610Z
LAST-MODIFIED:20170727T085621Z
UID:83-1501347600-1501351200@xn-----6kcabae4dwaijg6bdug7dzb6cj.xn--p1ai
SUMMARY:Сольная концертная программа «Моя Родина»
DESCRIPTION:
URL:https://xn-----6kcabae4dwaijg6bdug7dzb6cj.xn--p1ai/event/%d1%81%d0%be%d0%bb%d1%8c%d0%bd%d0%b0%d1%8f-%d0%ba%d0%be%d0%bd%d1%86%d0%b5%d1%80%d1%82%d0%bd%d0%b0%d1%8f-%d0%bf%d1%80%d0%be%d0%b3%d1%80%d0%b0%d0%bc%d0%bc%d0%b0-%d0%bc%d0%be%d1%8f-%d1%80%d0%be/
LOCATION:Поселок Береговой\, Омск\, Российская Федерация
CATEGORIES:Афиша
ATTACH;FMTTYPE=image/jpeg:https://xn-----6kcabae4dwaijg6bdug7dzb6cj.xn--p1ai/wp-content/uploads/2017/07/-e1501127687556.jpg
END:VEVENT
END:VCALENDAR